BEGIN:VCALENDAR
VERSION:2.0
PRODID:-//The Mall at Greece Ridge - ECPv6.0.2//NONSGML v1.0//EN
CALSCALE:GREGORIAN
METHOD:PUBLISH
X-WR-CALNAME:The Mall at Greece Ridge
X-ORIGINAL-URL:https://www.themallatgreeceridge.com
X-WR-CALDESC:Events for The Mall at Greece Ridge
REFRESH-INTERVAL;VALUE=DURATION:PT1H
X-Robots-Tag:noindex
X-PUBLISHED-TTL:PT1H
BEGIN:VTIMEZONE
TZID:America/New_York
BEGIN:DAYLIGHT
TZOFFSETFROM:-0500
TZOFFSETTO:-0400
TZNAME:EDT
DTSTART:20240310T070000
END:DAYLIGHT
BEGIN:STANDARD
TZOFFSETFROM:-0400
TZOFFSETTO:-0500
TZNAME:EST
DTSTART:20241103T060000
END:STANDARD
END:VTIMEZONE
BEGIN:VEVENT
DTSTART;TZID=America/New_York:20240601T080000
DTEND;TZID=America/New_York:20241123T140000
DTSTAMP:20260425T111314
CREATED:20240531T163718Z
LAST-MODIFIED:20241031T200802Z
UID:2072-1717228800-1732370400@www.themallatgreeceridge.com
SUMMARY:Greece Ridge Farmer's Market
DESCRIPTION:Greece Ridge Farmer’s Market runs Thursdays and Saturdays\, 8am – 2pm June through November 23. Located in the parking lot parallel to Long Pond Road\, the Greece Ridge Farmer’s Market has served the community for over 30 years.
URL:https://www.themallatgreeceridge.com/event/greece-ridge-farmers-market/
ATTACH;FMTTYPE=image/jpeg:https://www.themallatgreeceridge.com/wp-content/uploads/sites/3/2024/05/Beals_GR_FarmersMarket_470x470-1.jpg
END:VEVENT
BEGIN:VEVENT
DTSTART;TZID=America/New_York:20241013T160000
DTEND;TZID=America/New_York:20241013T190000
DTSTAMP:20260425T111314
CREATED:20240827T182828Z
LAST-MODIFIED:20241003T165350Z
UID:2372-1728835200-1728846000@www.themallatgreeceridge.com
SUMMARY:ROC City Mustangz Trunk or Treat!
DESCRIPTION:Join us Sunday\, October 13th from 4-7 pm for Trunk or Treat presented by ROC City Mustangz!  Bring the kids out for a fun and safe environment for some trick-or-treating while also indulging in your love for cars! \nFor more information\, click here.
URL:https://www.themallatgreeceridge.com/event/roc-city-mustangz-trunk-or-treat/
LOCATION:Overflow Parking Lot off Long Pond Road\, In front of Target
ATTACH;FMTTYPE=image/jpeg:https://www.themallatgreeceridge.com/wp-content/uploads/sites/3/2024/08/trunkortreat2024-2.jpg
END:VEVENT
BEGIN:VEVENT
DTSTART;TZID=America/New_York:20241025T170000
DTEND;TZID=America/New_York:20241025T190000
DTSTAMP:20260425T111314
CREATED:20240917T230321Z
LAST-MODIFIED:20240917T230321Z
UID:2504-1729875600-1729882800@www.themallatgreeceridge.com
SUMMARY:Halloween Trick-or-Treating at Greece Ridge!
DESCRIPTION:Join us for a spook-tacular Trick-or-Treat night at Greece Ridge on Friday\, October 25th from 5-7 pm! Kids can grab a goodie bag in center court\, enjoy cider & donuts\, and trick-or-treat throughout the mall! Get those costumes ready for a fang-tastic evening! \nFamilies can begin check-in at 5 pm in Center Court for a goodie bag\, info on cider & donuts\, and a list of participating stores! \nCider & Donuts along with Trick-Or-Treating are while supplies last. 
URL:https://www.themallatgreeceridge.com/event/halloween-trick-or-treating-at-greece-ridge/
LOCATION:Center Court
ATTACH;FMTTYPE=image/png:https://www.themallatgreeceridge.com/wp-content/uploads/sites/3/2024/09/trickortreatmgr.png
END:VEVENT
END:VCALENDAR