BEGIN:VCALENDAR
VERSION:2.0
PRODID:-//The Mall at Greece Ridge - ECPv6.0.2//NONSGML v1.0//EN
CALSCALE:GREGORIAN
METHOD:PUBLISH
X-WR-CALNAME:The Mall at Greece Ridge
X-ORIGINAL-URL:https://www.themallatgreeceridge.com
X-WR-CALDESC:Events for The Mall at Greece Ridge
REFRESH-INTERVAL;VALUE=DURATION:PT1H
X-Robots-Tag:noindex
X-PUBLISHED-TTL:PT1H
BEGIN:VTIMEZONE
TZID:America/New_York
BEGIN:DAYLIGHT
TZOFFSETFROM:-0500
TZOFFSETTO:-0400
TZNAME:EDT
DTSTART:20240310T070000
END:DAYLIGHT
BEGIN:STANDARD
TZOFFSETFROM:-0400
TZOFFSETTO:-0500
TZNAME:EST
DTSTART:20241103T060000
END:STANDARD
END:VTIMEZONE
BEGIN:VEVENT
DTSTART;TZID=America/New_York:20241123T110000
DTEND;TZID=America/New_York:20241224T170000
DTSTAMP:20260425T104648
CREATED:20241101T141125Z
LAST-MODIFIED:20251103T205211Z
UID:2670-1732359600-1735059600@www.themallatgreeceridge.com
SUMMARY:Visit Santa at Greece Ridge!
DESCRIPTION:Visit Santa in Greece Ridge’s Center Court this Holiday Season! Children can also write a letter ahead of time to put in Santa’s mailbox. \nMonday – Saturday: 11am – 7pm \nSunday: 11am – 6pm \nDecember 24: 10am – 5pm \n(Santa will take an afternoon break to feed his reindeer. Breaks are Monday-Saturday 3pm-4pm\, Sunday 2:30pm-3:15pm\, and on December 24th 1pm – 1:45pm) \nVIP Recognition (the company that helps bring Santa to Greece Ridge) encourages guests to make a reservation should they wish to avoid the crowds and reserve a specific time to see Santa. Reservations are NOT required\, and Santa’s staff will accommodate walk-up visits whenever possible. \nAs we have in years past\, we will offer additional opportunities to visit Santa. Santa Cares is a program for individuals who require additional assistance\, extra time\, or who need a quieter\, less stressful environment. Pet Night is an opportunity for families to bring their furry\, four-legged (or scaly\, no-legged) family members to meet Santa.
URL:https://www.themallatgreeceridge.com/event/visit-santa-at-greece-ridge-2024/
LOCATION:Center Court
ATTACH;FMTTYPE=image/jpeg:https://www.themallatgreeceridge.com/wp-content/uploads/sites/3/2024/11/Santa2024-visit-santa-Greece-Ridge-1.jpg
END:VEVENT
BEGIN:VEVENT
DTSTART;TZID=America/New_York:20241125T160000
DTEND;TZID=America/New_York:20241216T190000
DTSTAMP:20260425T104648
CREATED:20241101T142112Z
LAST-MODIFIED:20251103T210246Z
UID:2677-1732550400-1734375600@www.themallatgreeceridge.com
SUMMARY:Santa Pet Night
DESCRIPTION:Pet Night is an opportunity to bring your furry\, four-legged (or scaly no-legged!) family members to meet Santa! \nMonday\, November 25: 4pm – 7pm \nMonday\, December 2: 4pm – 7pm \nMonday\, December 9: 4pm – 7pm \nMonday\, December 16: 4pm – 7pm \n*For Pet Night\, please enter and exit through Entrance 8\, located at the Food Court. During Pet Night\, all pets must be contained to their carriers/leashes when inside the mall. While we welcome pets to visit Santa\, they are not permitted in the mall and ask that their visit be limited to seeing Santa.
URL:https://www.themallatgreeceridge.com/event/santa-pet-night-2024/
LOCATION:Center Court
ATTACH;FMTTYPE=image/jpeg:https://www.themallatgreeceridge.com/wp-content/uploads/sites/3/2024/11/Santa2024-pet-night-greece-ridge.jpg
END:VEVENT
BEGIN:VEVENT
DTSTART;VALUE=DATE:20241129
DTEND;VALUE=DATE:20241202
DTSTAMP:20260425T104648
CREATED:20241101T165410Z
LAST-MODIFIED:20251103T210458Z
UID:2693-1732838400-1733097599@www.themallatgreeceridge.com
SUMMARY:Black Friday Weekend
DESCRIPTION:Find amazing deals\, and keep your Holiday traditions alive\, when you shop at The Mall at Greece Ridge! When you shop in real life\, you receive in-person customer service and can take your purchases home today… no shipping stress! Plan your Black Friday weekend ahead of time – check out all the incredible sales taking place at your favorite Greece Ridge retailers. Happy Shopping! \nThis year mall stores will not be open on Thanksgiving Day. \nGreece Ridge is open Black Friday 7am – 9pm\, Saturday 10am – 9pm\, and Sunday 11am – 6pm. \n*COMPLETE LIST OF BLACK FRIDAY SALES* \nAéropostale: 60-70% Off Everything + All Jeans $25 \nAmerican Eagle: 30-50% Off + receive a free Snoopy gift with any purchase over $125 \nArdene: Up to 50% Off Everything \nBanter: BOGO 75% Off \nBarnes & Noble: 50% Off the Biggest Books \nBath & Body Works: entire store B3G3 FREE mix & match. Rewards members receive extra savings 6am – 12pm when you download the app! Gifts set only $40 with $40 purchase (value at $130) \nBurlington: Save 10% on your entire purchase when you buy a coat \nChamps: Footwear at $49.99\, Up to 70% Off \nClaire’s: 50% Off soft toys + Buy 3 Get 3 FREE in-store + 40% off Wicked Disney Stitch and Hello Kitty \nCiti Trends: Gifts for $9.99 and less \nDick’s Sporting Goods: Up to 50% Off \nDTLR: Up to 50% Off \nFamous Footwear: BOGO 50% Off \nFoot Locker: Up to 50% Off \nFYE: B2G1 75% Off Funko\, BOGO Free Plush Toys\, BOGO 50% Off Action and Collectibles\, $19.99 Flannel Jackets \nGameStop: $14.99 select games\, Save up to $125 on PS5 consoles\, Save $10 on select Xbox controllers \nGNC: Buy 1\, Get 1 50% Off Everything \nGO! calendars games toys: 30% – 70% off select games & toys \nHot Topic: 30-50% Off\, BOGO $10 Hoodies + $15 tees\, 25% off mini back packs and bags \nIcing: Buy 3\, Get 3 Free in-store \nJCPenney: Small appliances from $14.99\, toys & games from $6.99\, fragrances at 25% off\, pjs from $12.99\, comforter sets starting at $19.99\, bath towels starting at $2.99\, & more! \nJD Sports: Up to 50% off select footwear\, apparel\, and accessories. Styles from $15 +  BOGO 50% off \nJourneys: Sneakers starting at $29.98\, boots starting at $39.98\, and casuals starting at $19.98 \nKay Jewelers: Up to 40% Off Everything \nLane Bryant: 50% Off Almost Everything (includes all bras!) \nLensCrafters: 30% Off Designer Frames + 50% Off Lenses \nLids: BOGO 50% Off Storewide \nLOFT: 50% off everything + extra 50% off sales + styles start at just $20 \nMacys: Boots starting at $19.99\, 20% off Lego\, 50-75% off jewelry\, & more! \nMichaels: Up to 70% Off \nPINK: 40% Off Everything + Free Tote Bag w/ $85 Purchase + Free blanket with $150 purchase \nSNIPES: Up to 60% Off \nSpencer’s: 20% Off tees\, 25% Off sweaters\, Gifts Under $20 \nUlta: Up to 50% Off \nVictoria’s Secret: 40% Off Everything + Free Tote Bag w/ $85 Purchase + Free blanket with $150 purchase \nZales: Up to 40% Off \nZumiez: BOGO 50% Off Select \n 
URL:https://www.themallatgreeceridge.com/event/2693-2024/
ATTACH;FMTTYPE=image/jpeg:https://www.themallatgreeceridge.com/wp-content/uploads/sites/3/2024/11/GRC-BlackFriday2024-E.jpg
END:VEVENT
END:VCALENDAR